BEGIN:VCALENDAR
VERSION:2.0
PRODID:-//CERN//INDICO//EN
BEGIN:VEVENT
SUMMARY:Summer School on "Nonlinear and Structured Optimization: Theory an
 d Algorithms"
DTSTART:20260907T070000Z
DTEND:20260911T140000Z
DTSTAMP:20260423T015400Z
UID:indico-event-148@indico.sns.it
CONTACT:crm@sns.it
DESCRIPTION:Speakers: Giulio Bottazzi (Scuola Superiore Sant'Anna)\, Danie
 le Giachini (Scuola Superiore Sant'Anna)\n\n \nThe “Summer School of Ma
 thematics for Economic and Social Sciences" aims to improve the knowledge
  of mathematical methods among graduate students in economics and social s
 ciences. It focuses on techniques that\, although widespread in use\, are 
 not properly covered in typical graduate programs. The School is an interd
 isciplinary venue intended to foster the interaction of people from the to
 o often separated communities of mathematical and social scientists.\n \n
 The School is funded and organized by the Mathematics Research Center “
 Ennio De Giorgi” and partially supported by the International Doctoral P
 rogram in Economics of the Scuola Superiore Sant'Anna.\n \nLecturers:\nRi
 ccardo Cambini\, Università di Pisa\nPuya Latafat\, IMT Lucca\n \n\n\nPl
 ease view Syllabus below for more details.\n\n\nParticipation is subject t
 o selection. Only 16 positions are available. Financial support for board 
 and accommodation will be provided.\nThe deadline for registration is J
 une 8\, 2026. \nMore information at the REGISTRATION PAGE.\n\n\n\n\n\nht
 tps://indico.sns.it/event/148/
IMAGE;VALUE=URI:https://indico.sns.it/event/148/logo-1814998973.png
URL:https://indico.sns.it/event/148/
END:VEVENT
END:VCALENDAR
